BEGIN:VCALENDAR
PRODID:-//Microsoft Corporation//Outlook 11.0 MIMEDIR//EN
VERSION:2.0
METHOD:PUBLISH
BEGIN:VEVENT
DTSTART:20260913T120000
DTEND:20260913T170000
LOCATION:Restaurant Kaiserstock, 6452 Riemenstalden
TRANSP:OPAQUE
SEQUENCE:0
UID:c9b77ec1-1d0b-4876-ad6f-0d5144da7f8c-0
DTSTAMP:20260913T120000
DESCRIPTION:Die Freude an der Schwyzerörgelimusik hatten die Mosibuebä seit der Schulzeit. Dies kam nicht von ungefähr, gab es doch in der Verwandtschaft einige Musikanten wie die Betschart's (Pitschä) und Albert Lüönd.\n\nPauli spielte in jungen Jahren oft mit Rees Gwerder auf und war sehr am Stil der alten Urner und Muotathaler Handörgeler interessiert. Auch war er ein grosser Fan der Schmidbuebe.\nAlois war am Spiel von Bernhardin Schmidig (Lunni's Bärädi) sehr interessiert. Später begeisterte ihn der Örgelidoktor Martin Nauer mit dem er auch viele Auftritte bestritt. Ebenfalls verfolgte er die alte Musik der Schwyzerörgelivirtuosen Josef Stump und Balz Schmidig sowie Ernst Inglin.\nMit den Eigenkompositionen von Pauli und Alois entwickelte sich der unverkennbare Mosi-Stil. Einige junge Örgeler spielen diese Tänze nun auch und somit wird ein Fortbestehen des Mosi-Sound's gesichert.\n\nDaniel Gwerder hatte ähnliche Vorbilder wie die Mosibuebä. Des Weiteren interessiert er sich für Kasi Geisser und Josias Jenny Musik. Sein Vater und Grossvater waren auch begeisterte Schwyzerörgelispieler. Mit seinen Eigenkompositionen bereicherte er das Repertoire der Mosibuebä.\n\nThomas Scherrer war auch sehr interessiert an alter Örgelimusik und an den Mosibuebä. Er spielt viele Stücke von Pauli und einige von Alois originalgetreu.\n\nAm Bass ist offiziell Philipp Schuler oder Häppy Imholz und als Aushilfe Kari Schorno.\n\nhttps://mosi-musig.ch/\n\nVerfügbarkeit / Datum, Zeit\n13.9.2026 12:00 - 17:00\n\n\nDas Angebot im Detail: https://www.guidle.com/angebote/1232933242/mosi-musig_a_de_riemenstaldner-chilbi/riemenstalden\nQuelle: https://www.schwyzkultur.ch
SUMMARY:Mosi-Musig a de Riemenstaldner-Chilbi
PRIORITY:5
X-MICROSOFT-CDO-IMPORTANCE:1
CLASS:PUBLIC
BEGIN:VALARM
TRIGGER:-P1D
ACTION:DISPLAY
DESCRIPTION:Reminder
END:VALARM
END:VEVENT
END:VCALENDAR