BEGIN:VCALENDAR
PRODID:-//Microsoft Corporation//Outlook 11.0 MIMEDIR//EN
VERSION:2.0
METHOD:PUBLISH
BEGIN:VEVENT
DTSTART:20260425T183000
LOCATION:MGH Riedmatt Alte Wollerauerstrasse 39, 8832 Wollerau
TRANSP:OPAQUE
SEQUENCE:0
UID:ca91c609-3668-49cd-b715-085995f02342-0
DTSTAMP:20260425T183000
DESCRIPTION:VIVA LA MUSICA\n\nEin unterhaltsamer Konzertabend mit feurigen Rhythmen präsentiert vom Musikverein Verena Wollerau und dem Jugendblasorchester Höfe.\n\nMit grosser Vorfreude lädt der Musikverein Verena Wollerau am Samstag, 25. April zu seinem ersten Frühlingskonzert in der neuen Mehrzweckhalle Riedmatt in Wollerau ein. Nach längerer Pause kehrt das Frühlingskonzert damit wieder «nach Hause» zurück und verspricht beste Unterhaltung, musikalische Höhepunkte und kulinarische Genüsse.\n\nBereits ab 18.30 Uhr öffnet die Festwirtschaft und verwöhnt die Besucherinnen und Besucher mit feinen Speisen. Den musikalischen Auftakt gestaltet traditionsgemäss das Jugendblasorchester Höfe (JBOH), das mit einem abwechslungsreichen Programm den Konzertabend eröffnet.\n\nNach der Pause übernimmt der Musikverein Verena Wollerau das musikalische Zepter und entführt das Publikum unter dem Motto «Viva La Musica» in eine Welt voller feuriger Rhythmen und mitreissender Klänge. Mit der Second Suite von Alfred Reed wartet dabei ein besonders hörenswerter Klassiker auf die Zuhörenden.\n\nAuch neben der Bühne hat der Konzertabend einiges zu bieten: Ein reichhaltiges Kuchenbuffet mit selbstgebackenen Köstlichkeiten, erfrischende Drinks an der Bar sowie die Weinlaube mit dem hauseigenen «Vino Verena» laden zum Verweilen ein. Mit etwas Glück können die Besucherinnen und Besucher zudem bei der Tombola einen der attraktiven Preise gewinnen.\n\nDas Konzert beginnt um 20.00 Uhr, der Eintritt beträgt CHF 10.– (ab 16 Jahren). Einlass und Abendessen ist ab 18:30 Uhr.\n\nDer Musikverein Verena Wollerau bedankt sich bei dieser Gelegenheit herzlich bei seinen Passivmitgliedern, Sponsoren, Gönnern und Inserenten für die treue Unterstützung.\n\nDer Verein freut sich auf zahlreiche Gäste und einen stimmungsvollen Frühlingsabend.\n\nhttps://www.musikverein-wollerau.ch\n\nKontakt\nMusikverein Verena Wollerau\n8832 Wollerau\n\nVerfügbarkeit / Datum, Zeit\n25.4.2026 18:30 - \n\nDas Konzert beginnt um 20.00 Uhr. Einlass und Abendessen ist ab 18:30 Uhr.\n\nPreis\n10 CHF ab 16 Jahren\n\n\nDas Angebot im Detail: https://www.guidle.com/angebote/1249432373/fruhlingskonzert_musikverein_verena_wollerau/wollerau\nQuelle: https://www.schwyzkultur.ch
SUMMARY:Frühlingskonzert Musikverein Verena Wollerau
PRIORITY:5
X-MICROSOFT-CDO-IMPORTANCE:1
CLASS:PUBLIC
BEGIN:VALARM
TRIGGER:-P1D
ACTION:DISPLAY
DESCRIPTION:Reminder
END:VALARM
END:VEVENT
END:VCALENDAR