BEGIN:VCALENDAR
PRODID:-//Microsoft Corporation//Outlook 11.0 MIMEDIR//EN
VERSION:2.0
METHOD:PUBLISH
BEGIN:VEVENT
DTSTART:20260424T193000
DTEND:20260424T203000
LOCATION:Pfarrheim Ibach, Verenasaal Gotthardstrasse 85, 6438 Ibach
TRANSP:OPAQUE
SEQUENCE:0
UID:c3e5c9a2-9274-4c91-9de1-feda45156f04-0
DTSTAMP:20260424T193000
DESCRIPTION:Die Musikschule Schwyz lädt alle Musik- und besonders Blockflötenfans zum Jahreskonzert des Blockflötenorchesters Schwyz «BOS» ein. Es findet am Freitag 24. April 2026 um 19.30 Uhr im Verenasaal in Ibach statt. Als Gastformation treten die jungen und begabten Musizierenden des Blockflötenensembles auf. Das Publikum erwartet ein bunter Strauss an unterschiedlichen Musikstücken. Bitte benützen Sie ausschliesslich die öffentlichen Parkplätze. Das genaue Konzertprogramm finden Sie unter www.musikschuleschwyz.ch (unter Veranstaltungen).\n\nhttps://www.musikschuleschwyz.ch/anlaesseaktuelles/167710\n\nKontakt\nMusikschule Schwyz\nMusikschule Schwyz\nRahel Bünter\nMusikschulleiterin\nHerrengassse 37\n6430 Schwyz\n041 819 07 95\n\nVerfügbarkeit / Datum, Zeit\n24.4.2026 19:30 - 20:30\n\n\nDas Angebot im Detail: https://www.guidle.com/angebote/1251863478/konzert_blockflotenorchester_schwyz_die_zauberflote/ibach\nQuelle: https://www.schwyzkultur.ch
SUMMARY:Konzert Blockflötenorchester Schwyz "Die Zauberflöte"
PRIORITY:5
X-MICROSOFT-CDO-IMPORTANCE:1
CLASS:PUBLIC
BEGIN:VALARM
TRIGGER:-P1D
ACTION:DISPLAY
DESCRIPTION:Reminder
END:VALARM
END:VEVENT
END:VCALENDAR